BEGIN:VCALENDAR
VERSION:2.0
PRODID:-//The-League - ECPv6.15.20//NONSGML v1.0//EN
CALSCALE:GREGORIAN
METHOD:PUBLISH
X-WR-CALNAME:The-League
X-ORIGINAL-URL:https://the-league.org
X-WR-CALDESC:Events for The-League
REFRESH-INTERVAL;VALUE=DURATION:PT1H
X-Robots-Tag:noindex
X-PUBLISHED-TTL:PT1H
BEGIN:VTIMEZONE
TZID:America/Indiana/Indianapolis
BEGIN:DAYLIGHT
TZOFFSETFROM:-0500
TZOFFSETTO:-0400
TZNAME:EDT
DTSTART:20240310T070000
END:DAYLIGHT
BEGIN:STANDARD
TZOFFSETFROM:-0400
TZOFFSETTO:-0500
TZNAME:EST
DTSTART:20241103T060000
END:STANDARD
BEGIN:DAYLIGHT
TZOFFSETFROM:-0500
TZOFFSETTO:-0400
TZNAME:EDT
DTSTART:20250309T070000
END:DAYLIGHT
BEGIN:STANDARD
TZOFFSETFROM:-0400
TZOFFSETTO:-0500
TZNAME:EST
DTSTART:20251102T060000
END:STANDARD
BEGIN:DAYLIGHT
TZOFFSETFROM:-0500
TZOFFSETTO:-0400
TZNAME:EDT
DTSTART:20260308T070000
END:DAYLIGHT
BEGIN:STANDARD
TZOFFSETFROM:-0400
TZOFFSETTO:-0500
TZNAME:EST
DTSTART:20261101T060000
END:STANDARD
END:VTIMEZONE
BEGIN:VEVENT
DTSTART;TZID=America/Indiana/Indianapolis:20250702T130000
DTEND;TZID=America/Indiana/Indianapolis:20250702T143000
DTSTAMP:20260419T104353
CREATED:20250522T160551Z
LAST-MODIFIED:20250522T160551Z
UID:10000025-1751461200-1751466600@the-league.org
SUMMARY:Senior Blind Services Support Group Meeting
DESCRIPTION:The League’s Senior Blind Services team will host peer support group meetings for people with low vision or blindness who are over 55 years old\, on the first Wednesday of the month at Cameron Woods Assisted Living\, 701 Harcourt Road\, Angola\, IN 46703 from 1:00 PM to 2:30 PM.  No reservation required.  Please join us. \nFor questions contact Fred Fulkerson at 260-250-4092. \nFor more programs and services offered by The League visit us at www.the-league.org. \n 
URL:https://the-league.org/event/peer-support-group-meeting-senior-blind-services/2025-07-02/
LOCATION:Cameron Woods Assisted Living – Angola\, IN\, 701 W. Harcourt Road\, Angola\, 46703\, United States
ORGANIZER;CN="The League - Senior Blind Services":MAILTO:the-league@the-league.org
END:VEVENT
END:VCALENDAR