BEGIN:VCALENDAR
VERSION:2.0
PRODID:-//The-League - ECPv6.15.20//NONSGML v1.0//EN
CALSCALE:GREGORIAN
METHOD:PUBLISH
X-WR-CALNAME:The-League
X-ORIGINAL-URL:https://the-league.org
X-WR-CALDESC:Events for The-League
REFRESH-INTERVAL;VALUE=DURATION:PT1H
X-Robots-Tag:noindex
X-PUBLISHED-TTL:PT1H
BEGIN:VTIMEZONE
TZID:America/Indiana/Indianapolis
BEGIN:DAYLIGHT
TZOFFSETFROM:-0500
TZOFFSETTO:-0400
TZNAME:EDT
DTSTART:20240310T070000
END:DAYLIGHT
BEGIN:STANDARD
TZOFFSETFROM:-0400
TZOFFSETTO:-0500
TZNAME:EST
DTSTART:20241103T060000
END:STANDARD
BEGIN:DAYLIGHT
TZOFFSETFROM:-0500
TZOFFSETTO:-0400
TZNAME:EDT
DTSTART:20250309T070000
END:DAYLIGHT
BEGIN:STANDARD
TZOFFSETFROM:-0400
TZOFFSETTO:-0500
TZNAME:EST
DTSTART:20251102T060000
END:STANDARD
BEGIN:DAYLIGHT
TZOFFSETFROM:-0500
TZOFFSETTO:-0400
TZNAME:EDT
DTSTART:20260308T070000
END:DAYLIGHT
BEGIN:STANDARD
TZOFFSETFROM:-0400
TZOFFSETTO:-0500
TZNAME:EST
DTSTART:20261101T060000
END:STANDARD
END:VTIMEZONE
BEGIN:VEVENT
DTSTART;TZID=America/Indiana/Indianapolis:20251001T130000
DTEND;TZID=America/Indiana/Indianapolis:20251001T143000
DTSTAMP:20260419T155632
CREATED:20250522T160551Z
LAST-MODIFIED:20250522T160551Z
UID:10000028-1759323600-1759329000@the-league.org
SUMMARY:Senior Blind Services Support Group Meeting
DESCRIPTION:The League’s Senior Blind Services team will host peer support group meetings for people with low vision or blindness who are over 55 years old\, on the first Wednesday of the month at Cameron Woods Assisted Living\, 701 Harcourt Road\, Angola\, IN 46703 from 1:00 PM to 2:30 PM.  No reservation required.  Please join us. \nFor questions contact Fred Fulkerson at 260-250-4092. \nFor more programs and services offered by The League visit us at www.the-league.org. \n 
URL:https://the-league.org/event/peer-support-group-meeting-senior-blind-services/2025-10-01/
LOCATION:Cameron Woods Assisted Living – Angola\, IN\, 701 W. Harcourt Road\, Angola\, 46703\, United States
ORGANIZER;CN="The League - Senior Blind Services":MAILTO:the-league@the-league.org
END:VEVENT
BEGIN:VEVENT
DTSTART;TZID=America/Indiana/Indianapolis:20251002T173000
DTEND;TZID=America/Indiana/Indianapolis:20251002T193000
DTSTAMP:20260419T155632
CREATED:20250814T163755Z
LAST-MODIFIED:20250814T165215Z
UID:10000210-1759426200-1759433400@the-league.org
SUMMARY:American Sign Language (ASL) Level II Classes Presented by DeafLink- Jackson Lehman YMCA
DESCRIPTION:The League’s DefLink Division is Partnering with the Jackson Lehman YMCA to offer American Sign Language Classes. This is a Level II class so\, some experience in ASL is beneficial. \nThe class will focus on learning American Sign Language (ASL)\, learning about deaf culture\, and increase your ability to communicate. \nThe next class is registration is for  November 3 – December 21\, 2025.  Registration deadline is October 27\, 2025. \nClass Information: \n\nThursdays\, 5:30 – 7:30 PM – Jackson Lehman YMCA ( 5680 YMCA Park Drive West\, Fort Wayne\, IN 46835)  Phone: 260-755-4949.\nAges 15+\nCost:\n\n$120 – YMCA Member\n$150 – Non Members\n\n\n!0 registrations required to offer the class.\nContact Jessi Gross for Questions:  Jessi_Gross@fwymca.org\nRegistration Link:  ASL Level II Class \nPDF Flyer American Sign Language Class 2025Registration
URL:https://the-league.org/event/2647/2025-10-02/
LOCATION:Jackson Lehman YMCA\, 5680 YMCA Park Drive West\, Fort Wayne\, 46835\, United States
END:VEVENT
BEGIN:VEVENT
DTSTART;TZID=America/Indiana/Indianapolis:20251008T133000
DTEND;TZID=America/Indiana/Indianapolis:20251008T163000
DTSTAMP:20260419T155632
CREATED:20251006T190307Z
LAST-MODIFIED:20251006T190307Z
UID:10000216-1759930200-1759941000@the-league.org
SUMMARY:Free Low Vision Seminar at Greencroft Community Center\, Goshen\, IN - October 8\, 2025.
DESCRIPTION:The League’s Senior Blind Services will be offering a FREE Low Vision Seminar on Wednesday\, October 8th from 1:30 to 4:30 PM at the Greencroft Community Center located at 1820 Greencroft Drive\, Goshen\, IN. \nCome learn about common eye conditions that individuals encounter with aging and various prevention and treatment strategies. \nDr. Tiffany Szymarek from Elkhart Ophthalmology will be speaking about eye health. \nDr. John Coalter from Boling Vision Center will be speaking about signs and treatments for low vision. \nGreg Blackman from Eye Can See\, Inc. will be introducing some of the latest technologies to assist you. \nWe will have vendors from the Purdue Extension Elkhart County\, Real Services\, Owls Club\, The League and the Alzheimer’s & Dementia Services of Northern Indiana. \nNo registration necessary.  Doors open at 1:00 PM. \nFor questions\, contact Donna Horner at DonnaH@the-league.org or 574-255-5202  /Low Vision Seminar Flyer – Full Page
URL:https://the-league.org/event/free-low-vision-seminar-at-greencroft-community-center-goshen-in-october-8-2025/
LOCATION:greencroft community center\, 1820 Greencroft Drive\, Goshen\, IN\, 46527\, United States
ORGANIZER;CN="The League - Senior Blind Services":MAILTO:the-league@the-league.org
END:VEVENT
BEGIN:VEVENT
DTSTART;TZID=America/Indiana/Indianapolis:20251009T173000
DTEND;TZID=America/Indiana/Indianapolis:20251009T193000
DTSTAMP:20260419T155632
CREATED:20250814T163755Z
LAST-MODIFIED:20250814T165215Z
UID:10000211-1760031000-1760038200@the-league.org
SUMMARY:American Sign Language (ASL) Level II Classes Presented by DeafLink- Jackson Lehman YMCA
DESCRIPTION:The League’s DefLink Division is Partnering with the Jackson Lehman YMCA to offer American Sign Language Classes. This is a Level II class so\, some experience in ASL is beneficial. \nThe class will focus on learning American Sign Language (ASL)\, learning about deaf culture\, and increase your ability to communicate. \nThe next class is registration is for  November 3 – December 21\, 2025.  Registration deadline is October 27\, 2025. \nClass Information: \n\nThursdays\, 5:30 – 7:30 PM – Jackson Lehman YMCA ( 5680 YMCA Park Drive West\, Fort Wayne\, IN 46835)  Phone: 260-755-4949.\nAges 15+\nCost:\n\n$120 – YMCA Member\n$150 – Non Members\n\n\n!0 registrations required to offer the class.\nContact Jessi Gross for Questions:  Jessi_Gross@fwymca.org\nRegistration Link:  ASL Level II Class \nPDF Flyer American Sign Language Class 2025Registration
URL:https://the-league.org/event/2647/2025-10-09/
LOCATION:Jackson Lehman YMCA\, 5680 YMCA Park Drive West\, Fort Wayne\, 46835\, United States
END:VEVENT
BEGIN:VEVENT
DTSTART;TZID=America/Indiana/Indianapolis:20251016T173000
DTEND;TZID=America/Indiana/Indianapolis:20251016T193000
DTSTAMP:20260419T155632
CREATED:20250814T163755Z
LAST-MODIFIED:20250814T165215Z
UID:10000212-1760635800-1760643000@the-league.org
SUMMARY:American Sign Language (ASL) Level II Classes Presented by DeafLink- Jackson Lehman YMCA
DESCRIPTION:The League’s DefLink Division is Partnering with the Jackson Lehman YMCA to offer American Sign Language Classes. This is a Level II class so\, some experience in ASL is beneficial. \nThe class will focus on learning American Sign Language (ASL)\, learning about deaf culture\, and increase your ability to communicate. \nThe next class is registration is for  November 3 – December 21\, 2025.  Registration deadline is October 27\, 2025. \nClass Information: \n\nThursdays\, 5:30 – 7:30 PM – Jackson Lehman YMCA ( 5680 YMCA Park Drive West\, Fort Wayne\, IN 46835)  Phone: 260-755-4949.\nAges 15+\nCost:\n\n$120 – YMCA Member\n$150 – Non Members\n\n\n!0 registrations required to offer the class.\nContact Jessi Gross for Questions:  Jessi_Gross@fwymca.org\nRegistration Link:  ASL Level II Class \nPDF Flyer American Sign Language Class 2025Registration
URL:https://the-league.org/event/2647/2025-10-16/
LOCATION:Jackson Lehman YMCA\, 5680 YMCA Park Drive West\, Fort Wayne\, 46835\, United States
END:VEVENT
BEGIN:VEVENT
DTSTART;TZID=America/Indiana/Indianapolis:20251023T173000
DTEND;TZID=America/Indiana/Indianapolis:20251023T193000
DTSTAMP:20260419T155632
CREATED:20250814T163755Z
LAST-MODIFIED:20250814T165215Z
UID:10000213-1761240600-1761247800@the-league.org
SUMMARY:American Sign Language (ASL) Level II Classes Presented by DeafLink- Jackson Lehman YMCA
DESCRIPTION:The League’s DefLink Division is Partnering with the Jackson Lehman YMCA to offer American Sign Language Classes. This is a Level II class so\, some experience in ASL is beneficial. \nThe class will focus on learning American Sign Language (ASL)\, learning about deaf culture\, and increase your ability to communicate. \nThe next class is registration is for  November 3 – December 21\, 2025.  Registration deadline is October 27\, 2025. \nClass Information: \n\nThursdays\, 5:30 – 7:30 PM – Jackson Lehman YMCA ( 5680 YMCA Park Drive West\, Fort Wayne\, IN 46835)  Phone: 260-755-4949.\nAges 15+\nCost:\n\n$120 – YMCA Member\n$150 – Non Members\n\n\n!0 registrations required to offer the class.\nContact Jessi Gross for Questions:  Jessi_Gross@fwymca.org\nRegistration Link:  ASL Level II Class \nPDF Flyer American Sign Language Class 2025Registration
URL:https://the-league.org/event/2647/2025-10-23/
LOCATION:Jackson Lehman YMCA\, 5680 YMCA Park Drive West\, Fort Wayne\, 46835\, United States
END:VEVENT
BEGIN:VEVENT
DTSTART;TZID=America/Indiana/Indianapolis:20251030T173000
DTEND;TZID=America/Indiana/Indianapolis:20251030T193000
DTSTAMP:20260419T155632
CREATED:20250814T163755Z
LAST-MODIFIED:20250814T165215Z
UID:10000214-1761845400-1761852600@the-league.org
SUMMARY:American Sign Language (ASL) Level II Classes Presented by DeafLink- Jackson Lehman YMCA
DESCRIPTION:The League’s DefLink Division is Partnering with the Jackson Lehman YMCA to offer American Sign Language Classes. This is a Level II class so\, some experience in ASL is beneficial. \nThe class will focus on learning American Sign Language (ASL)\, learning about deaf culture\, and increase your ability to communicate. \nThe next class is registration is for  November 3 – December 21\, 2025.  Registration deadline is October 27\, 2025. \nClass Information: \n\nThursdays\, 5:30 – 7:30 PM – Jackson Lehman YMCA ( 5680 YMCA Park Drive West\, Fort Wayne\, IN 46835)  Phone: 260-755-4949.\nAges 15+\nCost:\n\n$120 – YMCA Member\n$150 – Non Members\n\n\n!0 registrations required to offer the class.\nContact Jessi Gross for Questions:  Jessi_Gross@fwymca.org\nRegistration Link:  ASL Level II Class \nPDF Flyer American Sign Language Class 2025Registration
URL:https://the-league.org/event/2647/2025-10-30/
LOCATION:Jackson Lehman YMCA\, 5680 YMCA Park Drive West\, Fort Wayne\, 46835\, United States
END:VEVENT
END:VCALENDAR